BEGIN:VCALENDAR
VERSION:2.0
PRODID:-//Duthy Street Art Supplies - ECPv4.9.10//NONSGML v1.0//EN
CALSCALE:GREGORIAN
METHOD:PUBLISH
X-WR-CALNAME:Duthy Street Art Supplies
X-ORIGINAL-URL:https://duthystreetartsupplies.com.au
X-WR-CALDESC:Events for Duthy Street Art Supplies
BEGIN:VTIMEZONE
TZID:Australia/Adelaide
BEGIN:STANDARD
TZOFFSETFROM:+1030
TZOFFSETTO:+0930
TZNAME:ACST
DTSTART:20210403T163000
END:STANDARD
BEGIN:DAYLIGHT
TZOFFSETFROM:+0930
TZOFFSETTO:+1030
TZNAME:ACDT
DTSTART:20211002T163000
END:DAYLIGHT
END:VTIMEZONE
BEGIN:VEVENT
DTSTART;TZID=Australia/Adelaide:20210223T100000
DTEND;TZID=Australia/Adelaide:20210223T150000
DTSTAMP:20210221T232942
CREATED:20191219T011954Z
LAST-MODIFIED:20210220T005907Z
UID:98521-1614074400-1614092400@duthystreetartsupplies.com.au
SUMMARY:TUESDAY Oil Mentoring with Kate Kurucz 10-3pm ONGOING
DESCRIPTION:Come and join in Tuesdays at Duthy Street\,\nwhere students can come work on their oil painting\nprojects under the supervision of Artist Kate Kurucz.\nEasels\, tea and coffee are provided. \n5 hour session\nFee: $70\nTime: 10-3pm \nPlaces are limited\, bookings essential and this is\nongoing every Tuesday.\nMaximum of 8 in class – REGISTER NOW! \nTo book\, contact us:\nart@duthystreetartsupplies.com.au\ncall on  08 83733314\nor drop by the store. \nWe have instituted Covid Safe business practices\, being:\n– Keeping classes small to ensure that there is a 1.5 metre square space allocation per student;\n– Providing hand sanitiser;\n– Washing down tables between each class;\n– Encouraging students to bring their own water bottles and coffee mugs;\n(Tea and coffee making facilities are provided).\n– Regular sanitising of surfaces.\nPLEASE\, if you feel ill with any Covid symptoms\, we\nurge you to  present at your nearest Covid clinic for testing. \nWe hope that gives you the confidence to attend classes here knowing we are undertaking\nsteps to mitigate the possibility of any virus spread. \n  \n
URL:https://duthystreetartsupplies.com.au/event/oil-mentoring-every-tuesday/
LOCATION:Duthy Street Art\, 6 Duthy Street\, Unley\, SA\, 5061\, Australia
CATEGORIES:Kate Kurucz
ATTACH;FMTTYPE=image/jpeg:https://duthystreetartsupplies.com.au/wp-content/uploads/2019/12/IMG_20200228_145215-e1589516777178.jpg
END:VEVENT
BEGIN:VEVENT
DTSTART;TZID=Australia/Adelaide:20210225T133000
DTEND;TZID=Australia/Adelaide:20210225T160000
DTSTAMP:20210221T232942
CREATED:20190617T022906Z
LAST-MODIFIED:20210220T011911Z
UID:94282-1614259800-1614268800@duthystreetartsupplies.com.au
SUMMARY:Watercolour Mentoring - THURSDAYS 1.30 - 4PM with Larissa Fraser
DESCRIPTION:Bring your watercolour projects into the studio\nand have access to Larissa Fraser’s mentoring\, every Thursday afternoon.\n$40 per session \nWe have instituted Covid Safe business practices\, being:\n– Keeping classes small to ensure that there is a 1.5 metre square space allocation per student;\n– Providing hand sanitiser;\n– Washing down tables between each class;\n– Encouraging students to bring their own water bottles and coffee mugs;\n(Tea and coffee making facilities are provided).\n– Regular sanitising of surfaces.\nPLEASE\, if you feel ill with any Covid symptoms\, we\nurge you to  present at your nearest Covid clinic for testing. \nWe hope that gives you the confidence to attend classes here knowing we are undertaking\nsteps to mitigate the possibility of any virus spread. \n
URL:https://duthystreetartsupplies.com.au/event/watercolour-mentoring-fridays-10-20-1-30-with-larissa-fraser/
LOCATION:Duthy Street Art\, 6 Duthy Street\, Unley\, SA\, 5061\, Australia
CATEGORIES:Larissa Fraser
ATTACH;FMTTYPE=image/png:https://duthystreetartsupplies.com.au/wp-content/uploads/2019/04/received_2629907283749476.png
END:VEVENT
BEGIN:VEVENT
DTSTART;TZID=Australia/Adelaide:20210226T100000
DTEND;TZID=Australia/Adelaide:20210226T150000
DTSTAMP:20210221T232942
CREATED:20200511T071516Z
LAST-MODIFIED:20210220T005836Z
UID:102741-1614333600-1614351600@duthystreetartsupplies.com.au
SUMMARY:FRIDAY Oil Mentoring with Megan Roodenrys 10-3pm
DESCRIPTION:Come and work on your oil painting project\nin the studio under the supervision of Megan Roodenrys.\nWe will provide you with your easel\, you will bring your own work and materials.\nThere will be a maximum of 6 students in class – be quick to sign up! \nEVERY FRIDAY\nTime: 10-3pm\n(or half day possible if space in studio\, please let us know)\nTutor: Megan Roodenrys\nFee: $75 payable prior to each session \nHow to book?\nEmail us at art@duthystreetartsupplies.com.au\nCall on 08 83733314\nor drop by! \nWe have instituted Covid Safe business practices\, being:\n– Keeping classes small to ensure that there is a 2 metre square space allocation per student;\n– Providing hand sanitiser;\n– Washing down tables between each class;\n– Encouraging students to bring their own water bottles and coffee mugs;\n(Tea and coffee making facilities are provided).\n– Regular sanitising of surfaces.\nPLEASE\, if you feel ill with any Covid symptoms\, we\nurge you to  present at your nearest Covid clinic for testing. \nWe hope that gives you the confidence to attend classes here knowing we are undertaking\nsteps to mitigate the possibility of any virus spread. \n
URL:https://duthystreetartsupplies.com.au/event/monday-oil-mentoring-with-megan-roodenrys-10-12-30-from-june/
LOCATION:Duthy Street Art\, 6 Duthy Street\, Unley\, SA\, 5061\, Australia
CATEGORIES:Megan Roodenrys
ATTACH;FMTTYPE=image/jpeg:https://duthystreetartsupplies.com.au/wp-content/uploads/2019/10/IMG_20200228_145232-e1599269138671.jpg
ORGANIZER;CN="Megan%20Roodenrys":MAILTO:art@duthystreetartsupplies.com.au
END:VEVENT
BEGIN:VEVENT
DTSTART;TZID=Australia/Adelaide:20210227T100000
DTEND;TZID=Australia/Adelaide:20210227T123000
DTSTAMP:20210221T232942
CREATED:20200516T024610Z
LAST-MODIFIED:20210220T011942Z
UID:102940-1614420000-1614429000@duthystreetartsupplies.com.au
SUMMARY:SATURDAY Oil Mentoring with Kate Kurucz 10.00 - 12.30pm ONGOING
DESCRIPTION:Bring in your oil or acrylic art projects and work in the studio under\nthe guidance of artist Kate Kurucz. \nEach Saturday\nTime: 10-12.30\nFee: $40 per session\, ongoing students will be given priority in this small class\nHow to book?\nCall us on 08 83733314\, email us on art@duthystreetartsupplies.com.au\nor drop by! \nWe have instituted Covid Safe business practices\, being:\n– Keeping classes small to ensure that there is a 1.5 metre square space allocation per student;\n– Providing hand sanitiser;\n– Washing down tables between each class;\n– Encouraging students to bring their own water bottles and coffee mugs;\n(Tea and coffee making facilities are provided).\n– Regular sanitising of surfaces.\nPLEASE\, if you feel ill with any Covid symptoms\, we\nurge you to  present at your nearest Covid clinic for testing. \nWe hope that gives you the confidence to attend classes here knowing we are undertaking\nsteps to mitigate the possibility of any virus spread. \n
URL:https://duthystreetartsupplies.com.au/event/saturday-oil-mentoring-with-kate-kurucz-10-00-12-30pm/
LOCATION:Duthy Street Art\, 6 Duthy Street\, Unley\, SA\, 5061\, Australia
CATEGORIES:Kate Kurucz
ATTACH;FMTTYPE=image/jpeg:https://duthystreetartsupplies.com.au/wp-content/uploads/2020/01/kates-image.jpeg
END:VEVENT
BEGIN:VEVENT
DTSTART;TZID=Australia/Adelaide:20210228T120000
DTEND;TZID=Australia/Adelaide:20210228T160000
DTSTAMP:20210221T232942
CREATED:20200903T232537Z
LAST-MODIFIED:20210104T053412Z
UID:107318-1614513600-1614528000@duthystreetartsupplies.com.au
SUMMARY:"SHADES OF WHITE 2021" with Liana Vargas Sunday FEBRUARY 28
DESCRIPTION:“SHADES OF WHITE” Acrylic painting with Liana Vargas\nDate: Sunday February 28th\nTime: 12-4pm\nFee: $120 \nIn this very popular one-day workshop participants will be shown techniques\nand skills in how to paint contemporary abstract ‘White paintings’.\nIt is an extremely ‘meditative’ process where encouragement is given to experiment\nwith different applications of paint using not just paint brushes but palette knives\,\ncloth and rags etc in multiple ways. \nClick here for more information and bookings. \nVisit www.lianavargas.com.au\nTo enquire and book\, contact Liana directly:\nEmail: mail@lianavargas.com.au\nCall Liana on 0408136466 \nWe have instituted Covid Safe business practices\, being:\n– Keeping classes small to ensure that there is a 1.5 metre square space allocation per student;\n– Providing hand sanitiser;\n– Washing down tables between each class;\n– Encouraging students to bring their own water bottles and coffee mugs;\n(Tea and coffee making facilities are provided).\n– Regular sanitising of surfaces.\nPLEASE\, if you feel ill with any Covid symptoms\, we\nurge you to  present at your nearest Covid clinic for testing. \nWe hope that gives you the confidence to attend classes here knowing we are undertaking\nsteps to mitigate the possibility of any virus spread. \n
URL:https://duthystreetartsupplies.com.au/event/painting-clouds-with-liana-vargas/
LOCATION:Duthy Street Art\, 6 Duthy Street\, Unley\, SA\, 5061\, Australia
CATEGORIES:Liana Vargas
ATTACH;FMTTYPE=image/jpeg:https://duthystreetartsupplies.com.au/wp-content/uploads/2020/09/shades.of_.white_.lianavargasarttuition.3.jpeg
ORGANIZER;CN="Liana%20Vargas":MAILTO:mail@lianavargas.com.au
END:VEVENT
BEGIN:VEVENT
DTSTART;TZID=Australia/Adelaide:20210307T100000
DTEND;TZID=Australia/Adelaide:20210307T160000
DTSTAMP:20210221T232942
CREATED:20210209T003559Z
LAST-MODIFIED:20210209T030412Z
UID:113522-1615111200-1615132800@duthystreetartsupplies.com.au
SUMMARY:"Learn how to TRAVEL SKETCH using Ink and Wash - Focus on LONDON" with Larissa Fraser Sunday March 7
DESCRIPTION:“Learn Travel Sketching with LONDON as the focus using Ink and Wash Techniques”\nYou will learn how to capture LONDON in a sketch book with Pen and Wash.\nWe will try to simplify the process so you can enjoy the application.\nA fabulous skill to enable you to artistically document your travels! \nTutor: Larissa Fraser\nDate: Sunday March 7\nTimes: 10-4pm\nBasic materials are included \nTo view information on Larissa Fraser\, click here \nHow to book?\nA $50 deposit will be required to secure your place in this class\nDrop by the store\, call us on 08 83733314\nor email art@duthystreetartsupplies.com.au to enquire and book.\n \nWe have instituted Covid Safe business practices\, being:\n– Keeping classes small to ensure that there is a 2 metre square space allocation per student;\n– Providing hand sanitiser;\n– Washing down tables between each class;\n– Encouraging students to bring their own water bottles and coffee mugs;\n(Tea and coffee making facilities are provided).\n– Regular sanitising of surfaces.\nPLEASE\, if you feel ill with any Covid symptoms\, we\nurge you to  present at your nearest Covid clinic for testing. \nStay informed by clicking here for SA Health Department directions \nWe hope that gives you the confidence to attend classes here knowing we are undertaking\nsteps to mitigate the possibility of any virus spread. \n
URL:https://duthystreetartsupplies.com.au/event/travelsketchmarch7/
LOCATION:Duthy Street Art\, 6 Duthy Street\, Unley\, SA\, 5061\, Australia
CATEGORIES:Larissa Fraser
ATTACH;FMTTYPE=image/jpeg:https://duthystreetartsupplies.com.au/wp-content/uploads/2021/02/london-e1612830868516.jpg
END:VEVENT
BEGIN:VEVENT
DTSTART;TZID=Australia/Adelaide:20210313T130000
DTEND;TZID=Australia/Adelaide:20210313T170000
DTSTAMP:20210221T232942
CREATED:20210124T010905Z
LAST-MODIFIED:20210209T014508Z
UID:112895-1615640400-1615654800@duthystreetartsupplies.com.au
SUMMARY:"LANDSCAPES in Oil and Impasto Medium" with Megan Roodenrys
DESCRIPTION:Three Consecutive Saturday Afternoons\nLearning how to paint Landscapes in Oil with Impasto Medium\nwith Megan Roodenrys\nDates: Saturday March 13th\, 20th and 27th\nTimes: 1-5pm each session\nTutor Fee: $280 excludes materials*\n*Materials will be available at a special discount\,\nCanvas size to come. \nHow to book?\nA $50 deposit will be required to secure your place in this class\nDrop by the store\, call us on 08 83733314\nor email art@duthystreetartsupplies.com.au to enquire and book.\n \nWe have instituted Covid Safe business practices\, being:\n– Keeping classes small to ensure that there is a 2 metre square space allocation per student;\n– Providing hand sanitiser;\n– Washing down tables between each class;\n– Encouraging students to bring their own water bottles and coffee mugs;\n(Tea and coffee making facilities are provided).\n– Regular sanitising of surfaces.\nPLEASE\, if you feel ill with any Covid symptoms\, we\nurge you to  present at your nearest Covid clinic for testing. \nStay informed by clicking here for SA Health Department directions \nWe hope that gives you the confidence to attend classes here knowing we are undertaking\nsteps to mitigate the possibility of any virus spread. \n
URL:https://duthystreetartsupplies.com.au/event/impasto-landscapes-in-oil-with-megan-roodenrys/
LOCATION:Duthy Street Art\, 6 Duthy Street\, Unley\, SA\, 5061\, Australia
CATEGORIES:Megan Roodenrys
ATTACH;FMTTYPE=image/jpeg:https://duthystreetartsupplies.com.au/wp-content/uploads/2019/12/IMG_20191221_151031-e1612835101461.jpg
ORGANIZER;CN="Megan%20Roodenrys":MAILTO:art@duthystreetartsupplies.com.au
END:VEVENT
BEGIN:VEVENT
DTSTART;TZID=Australia/Adelaide:20210314T100000
DTEND;TZID=Australia/Adelaide:20210314T160000
DTSTAMP:20210221T232942
CREATED:20210124T013805Z
LAST-MODIFIED:20210209T005506Z
UID:112902-1615716000-1615737600@duthystreetartsupplies.com.au
SUMMARY:"PAINTING EMOTION" with Liana Vargas March 14
DESCRIPTION:Afternoon workshop using Oil Paint. Great for painters wanting to explore and move out of their comfort zone.\nTaeil Kim who captures his subjects in exquisite abstract portraits.\nDuring this workshop we will explore the techniques and methods used by Korean artist\nKim emphasises the intangible emotions through abstract applications of colour. \nDATES: Sunday 14 March\nTIMES: 10:00-4:00pm\nFee: $190 \nClick here for more information and bookings. \nVisit www.lianavargas.com.au\nTo enquire and book\, contact Liana directly:\nEmail: mail@lianavargas.com.au\nCall Liana on 0408136466 \nWe have instituted Covid Safe business practices\, being:\n– Keeping classes small to ensure that there is a 1.5 metre square space allocation per student;\n– Providing hand sanitiser;\n– Washing down tables between each class;\n– Encouraging students to bring their own water bottles and coffee mugs;\n(Tea and coffee making facilities are provided).\n– Regular sanitising of surfaces.\nPLEASE\, if you feel ill with any Covid symptoms\, we\nurge you to  present at your nearest Covid clinic for testing. \nWe hope that gives you the confidence to attend classes here knowing we are undertaking\nsteps to mitigate the possibility of any virus spread. \n  \n
URL:https://duthystreetartsupplies.com.au/event/blurring-lines-abstract-portraiture-with-liana-vargas/
LOCATION:Duthy Street Art\, 6 Duthy Street\, Unley\, SA\, 5061\, Australia
CATEGORIES:Liana Vargas
ATTACH;FMTTYPE=image/jpeg:https://duthystreetartsupplies.com.au/wp-content/uploads/2021/01/taeil-kim-abstract-portraits-10.jpg
ORGANIZER;CN="Liana%20Vargas":MAILTO:mail@lianavargas.com.au
END:VEVENT
BEGIN:VEVENT
DTSTART;TZID=Australia/Adelaide:20210321T100000
DTEND;TZID=Australia/Adelaide:20210321T160000
DTSTAMP:20210221T232942
CREATED:20201109T030732Z
LAST-MODIFIED:20210209T005030Z
UID:109916-1616320800-1616342400@duthystreetartsupplies.com.au
SUMMARY:FLOWERS - LEARN WET ON WET WATERCOLOUR PAINTING ON SATURATED PAPER-  WORKSHOP SUNDAY March 21st
DESCRIPTION:“LEAR TO PAINT FLOWERS USING WET ON WET WATERCOLOUR\nPAINT ON SATURATED PAPER”\n– Classic Russian technique\nwith Larissa Fraser\n\nDate: Sunday March 21\nTime: 10-4pm\nFee: $150 \nLearning to paint the soft flower subject\, using\nthe “wet on wet” technique.\nThis technique results in an especially soft image\nwith a depth of colour and tone.\nLearning about colour pigments and tones.\nSuitable for beginners and upwards. \nVisit Tutor Larissa Fraser’s website \nWhat will you need to bring?\nIf you have watercolour brushes or any watercolour paints\nbut some basic (paper) material will be provided.\n\nHow to book?\nA $50 deposit will be required to secure your place in this class\nDrop by the store\, call us on 08 83733314\nor email art@duthystreetartsupplies.com.au to enquire and book. \nWe have instituted Covid Safe business practices\, being:\n– Keeping classes small to ensure that there is a 1.5 metre square space allocation per student;\n– Providing hand sanitiser;\n– Washing down tables between each class;\n– Encouraging students to bring their own water bottles and coffee mugs;\n(Tea and coffee making facilities are provided).\n– Regular sanitising of surfaces.\nPLEASE\, if you feel ill with any Covid symptoms\, we\nurge you to  present at your nearest Covid clinic for testing. \nWe hope that gives you the confidence to attend classes here knowing we are undertaking\nsteps to mitigate the possibility of any virus spread. \n
URL:https://duthystreetartsupplies.com.au/event/flowers-sketching-with-ink-and-wash/
LOCATION:Duthy Street Art\, 6 Duthy Street\, Unley\, SA\, 5061\, Australia
CATEGORIES:Larissa Fraser
ATTACH;FMTTYPE=image/jpeg:https://duthystreetartsupplies.com.au/wp-content/uploads/2020/11/whiteflowers2-e1607906679915.jpg
END:VEVENT
BEGIN:VEVENT
DTSTART;TZID=Australia/Adelaide:20210328T100000
DTEND;TZID=Australia/Adelaide:20210328T160000
DTSTAMP:20210221T232942
CREATED:20210209T005826Z
LAST-MODIFIED:20210209T005931Z
UID:113535-1616925600-1616947200@duthystreetartsupplies.com.au
SUMMARY:"EVOCATIVE - Abstract Multi Media Painting" with Liana Vargas Sunday March 28
DESCRIPTION:Learn to paint “EVOCATIVE – Abstract Multi Media Painting”\nwith Liana Vargas \nDATES: Sunday 28 March\nTIMES: 10:00-4:00pm\nFee: $190 \nThis workshop is inspired by the paintings created by\nBritish Figurative Artist Mark Demsteader – and is designed to loosen you up. \nClick here for more information and bookings. \nVisit www.lianavargas.com.au\nTo enquire and book\, contact Liana directly:\nEmail: mail@lianavargas.com.au\nCall Liana on 0408136466 \nWe have instituted Covid Safe business practices\, being:\n– Keeping classes small to ensure that there is a 1.5 metre square space allocation per student;\n– Providing hand sanitiser;\n– Washing down tables between each class;\n– Encouraging students to bring their own water bottles and coffee mugs;\n(Tea and coffee making facilities are provided).\n– Regular sanitising of surfaces.\nPLEASE\, if you feel ill with any Covid symptoms\, we\nurge you to  present at your nearest Covid clinic for testing. \nWe hope that gives you the confidence to attend classes here knowing we are undertaking\nsteps to mitigate the possibility of any virus spread. \n
URL:https://duthystreetartsupplies.com.au/event/evocative-abstract-multi-media-painting-with-liana-vargas-sunday-march-28/
LOCATION:Duthy Street Art\, 6 Duthy Street\, Unley\, SA\, 5061\, Australia
CATEGORIES:Liana Vargas
ATTACH;FMTTYPE=image/jpeg:https://duthystreetartsupplies.com.au/wp-content/uploads/2021/02/demsteader.blue_.jpg
ORGANIZER;CN="Liana%20Vargas":MAILTO:mail@lianavargas.com.au
END:VEVENT
BEGIN:VEVENT
DTSTART;TZID=Australia/Adelaide:20210425T120000
DTEND;TZID=Australia/Adelaide:20210425T160000
DTSTAMP:20210221T232942
CREATED:20210209T011212Z
LAST-MODIFIED:20210209T011212Z
UID:113540-1619352000-1619366400@duthystreetartsupplies.com.au
SUMMARY:"WHITE WASHED MIXED MEDIA"- with Liana Vargas SUNDAY 28th March
DESCRIPTION:Learn to paint “WHITE WASHED MIXED MEDIA”\nwith Liana Vargas \nDATE: Sunday 25 April\nTIME: 12:00-4:00pm\nFee: $120\n“I’d love you to join my small group in this afternoon exploring the multiple possibilities\nof mixed media to create a painting. Primarily we will us some Cut Out Images from Magazines\,\nGesso\, Acrylic Paint and Drawing to create our masterpiece.” \nClick here for more information and bookings. \nVisit www.lianavargas.com.au\nTo enquire and book\, contact Liana directly:\nEmail: mail@lianavargas.com.au\nCall Liana on 0408136466 \nWe have instituted Covid Safe business practices\, being:\n– Keeping classes small to ensure that there is a 1.5 metre square space allocation per student;\n– Providing hand sanitiser;\n– Washing down tables between each class;\n– Encouraging students to bring their own water bottles and coffee mugs;\n(Tea and coffee making facilities are provided).\n– Regular sanitising of surfaces.\nPLEASE\, if you feel ill with any Covid symptoms\, we\nurge you to  present at your nearest Covid clinic for testing. \nWe hope that gives you the confidence to attend classes here knowing we are undertaking\nsteps to mitigate the possibility of any virus spread. \n
URL:https://duthystreetartsupplies.com.au/event/white-washed-mixed-media-with-liana-vargas-sunday-28th-march/
LOCATION:Duthy Street Art\, 6 Duthy Street\, Unley\, SA\, 5061\, Australia
CATEGORIES:Liana Vargas
ATTACH;FMTTYPE=image/jpeg:https://duthystreetartsupplies.com.au/wp-content/uploads/2021/02/aaaa-white-washed.jpg
ORGANIZER;CN="Liana%20Vargas":MAILTO:mail@lianavargas.com.au
END:VEVENT
BEGIN:VEVENT
DTSTART;TZID=Australia/Adelaide:20210508T130000
DTEND;TZID=Australia/Adelaide:20210522T170000
DTSTAMP:20210221T232942
CREATED:20210220T030342Z
LAST-MODIFIED:20210220T030342Z
UID:114004-1620478800-1621702800@duthystreetartsupplies.com.au
SUMMARY:"Learnt to Paint SKIN TONES using Oils with Megan Roodenrys - Saturday afternoons 1-5pm
DESCRIPTION:Four Consecutive Saturday Afternoons\nLearning how to paint SKIN TONES with Oils with \nwith Megan Roodenrys\nDates: Saturday May 8th\, 15th\, 22nd and 29th\nTimes: 1-5pm each session\nTutor Fee: $360 excludes materials*\n*Materials will be available at a special discount\,\nCanvas size to come. \nHow to book?\nA $50 deposit will be required to secure your place in this class\nDrop by the store\, call us on 08 83733314\nor email art@duthystreetartsupplies.com.au to enquire and book.\n \nWe have instituted Covid Safe business practices\, being:\n– Keeping classes small to ensure that there is a 2 metre square space allocation per student;\n– Providing hand sanitiser;\n– Washing down tables between each class;\n– Encouraging students to bring their own water bottles and coffee mugs;\n(Tea and coffee making facilities are provided).\n– Regular sanitising of surfaces.\nPLEASE\, if you feel ill with any Covid symptoms\, we\nurge you to  present at your nearest Covid clinic for testing. \nStay informed by clicking here for SA Health Department directions \nWe hope that gives you the confidence to attend classes here knowing we are undertaking\nsteps to mitigate the possibility of any virus spread. \n
URL:https://duthystreetartsupplies.com.au/event/learnt-to-paint-skin-tones-using-oils-with-megan-roodenrys-saturday-afternoons-1-5pm/
LOCATION:Duthy Street Art\, 6 Duthy Street\, Unley\, SA\, 5061\, Australia
CATEGORIES:Megan Roodenrys
ATTACH;FMTTYPE=image/jpeg:https://duthystreetartsupplies.com.au/wp-content/uploads/2021/02/IMG_20201215_154226-e1613790049762.jpg
ORGANIZER;CN="Megan%20Roodenrys":MAILTO:art@duthystreetartsupplies.com.au
END:VEVENT
BEGIN:VEVENT
DTSTART;TZID=Australia/Adelaide:20210523T120000
DTEND;TZID=Australia/Adelaide:20210523T160000
DTSTAMP:20210221T232942
CREATED:20210209T011438Z
LAST-MODIFIED:20210209T011438Z
UID:113543-1621771200-1621785600@duthystreetartsupplies.com.au
SUMMARY:"CREAMY FLORAL - STILL LIFE" with Liana Vargas Sunday 23rd May
DESCRIPTION:Learn to paint “WHITE WASHED MIXED MEDIA”\nwith Liana Vargas \nDATE: Sunday 23rd May\nTIME: 12:00-4:00pm\nFee: $120 \nIn this afternoon workshop we will explore the subtle richness of ‘A white still life of Flowers and Vase’.\nWe will use a paint palette of the palest of hues\, experiment with diminishing edges while looking for playful shadows and subdued highlights.\nAfternoon workshop for any level of painter (complete beginners) in Oil Paint or acrylic. \nClick here for more information and bookings. \nVisit www.lianavargas.com.au\nTo enquire and book\, contact Liana directly:\nEmail: mail@lianavargas.com.au\nCall Liana on 0408136466 \nWe have instituted Covid Safe business practices\, being:\n– Keeping classes small to ensure that there is a 1.5 metre square space allocation per student;\n– Providing hand sanitiser;\n– Washing down tables between each class;\n– Encouraging students to bring their own water bottles and coffee mugs;\n(Tea and coffee making facilities are provided).\n– Regular sanitising of surfaces.\nPLEASE\, if you feel ill with any Covid symptoms\, we\nurge you to  present at your nearest Covid clinic for testing. \nWe hope that gives you the confidence to attend classes here knowing we are undertaking\nsteps to mitigate the possibility of any virus spread. \n
URL:https://duthystreetartsupplies.com.au/event/creamy-floral-still-life-with-liana-vargas-sunday-23rd-may/
LOCATION:Duthy Street Art\, 6 Duthy Street\, Unley\, SA\, 5061\, Australia
CATEGORIES:Liana Vargas
ATTACH;FMTTYPE=image/jpeg:https://duthystreetartsupplies.com.au/wp-content/uploads/2021/02/aaaa-floral.jpg
ORGANIZER;CN="Liana%20Vargas":MAILTO:mail@lianavargas.com.au
END:VEVENT
END:VCALENDAR